Package: wateRmelon Version: 2.17.0 Command: /Library/Frameworks/R.framework/Resources/bin/R CMD build --keep-empty-dirs --no-resave-data wateRmelon StartedAt: 2025-11-13 18:08:32 -0500 (Thu, 13 Nov 2025) EndedAt: 2025-11-13 18:09:16 -0500 (Thu, 13 Nov 2025) EllapsedTime: 43.5 seconds RetCode: 0 Status: OK PackageFile: wateRmelon_2.17.0.tar.gz PackageFileSize: 3.278 MiB