Package: wateRmelon Version: 2.17.0 Command: rm -rf wateRmelon.buildbin-libdir && mkdir wateRmelon.buildbin-libdir && /Users/biocbuild/BBS/utils/build-universal.sh wateRmelon_2.17.0.tar.gz /Library/Frameworks/R.framework/Resources/bin/R wateRmelon.buildbin-libdir StartedAt: 2025-11-14 00:01:25 -0500 (Fri, 14 Nov 2025) EndedAt: 2025-11-14 00:01:53 -0500 (Fri, 14 Nov 2025) EllapsedTime: 27.9 seconds RetCode: 0 Status: OK PackageFile: wateRmelon_2.17.0.tgz PackageFileSize: 3.691 MiB