Back to Build/check report for BioC 3.23:   simplified   long
ABCDEFGHIJKLMNOPQRSTUV[W]XYZ

This page was generated on 2025-11-13 11:32 -0500 (Thu, 13 Nov 2025).

HostnameOSArch (*)R versionInstalled pkgs
kjohnson3macOS 13.7.7 Venturaarm64R Under development (unstable) (2025-11-04 r88984) -- "Unsuffered Consequences" 4013
Click on any hostname to see more info about the system (e.g. compilers)      (*) as reported by 'uname -p', except on Windows and Mac OS X

All results for package wateRmelon


To the developers/maintainers of the wateRmelon package:
- Allow up to 24 hours (and sometimes 48 hours) for your latest push to git@git.bioconductor.org:packages/wateRmelon.git to reflect on this report. See Troubleshooting Build Report for more information.
- Use the following Renviron settings to reproduce errors and warnings.
- If 'R CMD check' started to fail recently on the Linux builder(s) over a missing dependency, add the missing dependency to 'Suggests:' in your DESCRIPTION file. See Renviron.bioc for more information.

raw results

Package 2296/2325HostnameOS / ArchINSTALLBUILDCHECKBUILD BIN
wateRmelon 2.17.0  (landing page)
Leo C Schalkwyk
Snapshot Date: 2025-11-12 13:40 -0500 (Wed, 12 Nov 2025)
git_url: https://git.bioconductor.org/packages/wateRmelon
git_branch: devel
git_last_commit: e1ace56
git_last_commit_date: 2025-10-29 10:13:04 -0500 (Wed, 29 Oct 2025)
kjohnson3macOS 13.7.7 Ventura / arm64  ERROR    ERROR  skippedskipped



Results for Bioconductor software packages that depend directly on package wateRmelon

QUICK STATSOS / ArchINSTALLBUILDCHECKBUILD BIN
kjohnson3macOS 13.7.7 Ventura / arm64
040
040
0000
000
Package 1/4HostnameOS / ArchINSTALLBUILDCHECKBUILD BIN
bigmelon 1.37.0  (landing page)
Leonard C. Schalkwyk
git_last_commit: 142a0e8
git_last_commit_date: 2025-10-29 10:34:27 -0500
kjohnson3macOS 13.7.7 Ventura / arm64  ERROR    ERROR  skippedskipped
Package 2/4HostnameOS / ArchINSTALLBUILDCHECKBUILD BIN
ChAMP 2.41.0  (landing page)
Yuan Tian
git_last_commit: 8bc9b68
git_last_commit_date: 2025-10-29 10:17:05 -0500
kjohnson3macOS 13.7.7 Ventura / arm64  ERROR    ERROR  skippedskipped
Package 3/4HostnameOS / ArchINSTALLBUILDCHECKBUILD BIN
MEAT 1.23.0  (landing page)
Sarah Voisin
git_last_commit: 9255364
git_last_commit_date: 2025-10-29 10:56:43 -0500
kjohnson3macOS 13.7.7 Ventura / arm64  ERROR    ERROR  skippedskipped
Package 4/4HostnameOS / ArchINSTALLBUILDCHECKBUILD BIN
skewr 1.43.0  (landing page)
Ryan Putney
git_last_commit: 04eef08
git_last_commit_date: 2025-10-29 10:24:12 -0500
kjohnson3macOS 13.7.7 Ventura / arm64  ERROR    ERROR  skippedskipped