Package: waddR Version: 1.25.0 Command: /Library/Frameworks/R.framework/Resources/bin/R CMD INSTALL waddR StartedAt: 2025-11-23 15:14:22 -0500 (Sun, 23 Nov 2025) EndedAt: 2025-11-23 15:14:38 -0500 (Sun, 23 Nov 2025) EllapsedTime: 15.7 seconds RetCode: 0 Status: OK