Package: waddR Version: 1.25.0 Command: /Library/Frameworks/R.framework/Resources/bin/R CMD build --keep-empty-dirs --no-resave-data waddR StartedAt: 2025-11-23 18:07:24 -0500 (Sun, 23 Nov 2025) EndedAt: 2025-11-23 18:07:52 -0500 (Sun, 23 Nov 2025) EllapsedTime: 28.3 seconds RetCode: 1 Status: ERROR PackageFile: None PackageFileSize: NA