Package: vulcan Version: 1.33.0 Command: /home/biocbuild/bbs-3.23-bioc/R/bin/R CMD INSTALL vulcan StartedAt: 2025-11-14 16:00:18 -0500 (Fri, 14 Nov 2025) EndedAt: 2025-11-14 16:01:17 -0500 (Fri, 14 Nov 2025) EllapsedTime: 58.9 seconds RetCode: 0 Status: OK