Package: vulcan Version: 1.33.0 Command: /home/biocbuild/bbs-3.23-bioc/R/bin/R CMD build --keep-empty-dirs --no-resave-data vulcan StartedAt: 2025-11-14 20:44:46 -0500 (Fri, 14 Nov 2025) EndedAt: 2025-11-14 20:46:13 -0500 (Fri, 14 Nov 2025) EllapsedTime: 87.1 seconds RetCode: 0 Status: OK PackageFile: vulcan_1.33.0.tar.gz PackageFileSize: 390.2 KiB