Package: vulcan Version: 1.33.0 Command: /Library/Frameworks/R.framework/Resources/bin/R CMD INSTALL vulcan StartedAt: 2025-11-14 15:31:43 -0500 (Fri, 14 Nov 2025) EndedAt: 2025-11-14 15:32:07 -0500 (Fri, 14 Nov 2025) EllapsedTime: 24.6 seconds RetCode: 0 Status: OK