Package: vulcan Version: 1.33.0 Command: /Library/Frameworks/R.framework/Resources/bin/R CMD build --keep-empty-dirs --no-resave-data vulcan StartedAt: 2025-11-14 18:05:15 -0500 (Fri, 14 Nov 2025) EndedAt: 2025-11-14 18:05:57 -0500 (Fri, 14 Nov 2025) EllapsedTime: 42.5 seconds RetCode: 0 Status: OK PackageFile: vulcan_1.33.0.tar.gz PackageFileSize: 390.2 KiB