Package: vulcan Version: 1.33.0 Command: rm -rf vulcan.buildbin-libdir && mkdir vulcan.buildbin-libdir && /Users/biocbuild/BBS/utils/build-universal.sh vulcan_1.33.0.tar.gz /Library/Frameworks/R.framework/Resources/bin/R vulcan.buildbin-libdir StartedAt: 2025-11-14 23:56:38 -0500 (Fri, 14 Nov 2025) EndedAt: 2025-11-14 23:57:07 -0500 (Fri, 14 Nov 2025) EllapsedTime: 29.7 seconds RetCode: 0 Status: OK PackageFile: vulcan_1.33.0.tgz PackageFileSize: 463.9 KiB