Package: vulcan Version: 1.33.0 Maintainer: Federico M. Giorgi MaintainerEmail: federico.giorgi at gmail.com git_url: https://git.bioconductor.org/packages/vulcan git_branch: devel git_last_commit: 2216885 git_last_commit_date: 2025-10-29 10:41:08 -0500 (Wed, 29 Oct 2025)