Package: vtpnet Version: 0.51.0 Command: /Library/Frameworks/R.framework/Resources/bin/R CMD INSTALL vtpnet StartedAt: 2025-11-14 15:21:36 -0500 (Fri, 14 Nov 2025) EndedAt: 2025-11-14 15:21:57 -0500 (Fri, 14 Nov 2025) EllapsedTime: 20.8 seconds RetCode: 0 Status: OK