Package: vtpnet Version: 0.51.0 Command: /Library/Frameworks/R.framework/Resources/bin/R CMD build --keep-empty-dirs --no-resave-data vtpnet StartedAt: 2025-11-14 18:05:14 -0500 (Fri, 14 Nov 2025) EndedAt: 2025-11-14 18:05:58 -0500 (Fri, 14 Nov 2025) EllapsedTime: 44.5 seconds RetCode: 0 Status: OK PackageFile: vtpnet_0.51.0.tar.gz PackageFileSize: 20.23 MiB