Package: vtpnet Version: 0.51.0 Command: rm -rf vtpnet.buildbin-libdir && mkdir vtpnet.buildbin-libdir && /Users/biocbuild/BBS/utils/build-universal.sh vtpnet_0.51.0.tar.gz /Library/Frameworks/R.framework/Resources/bin/R vtpnet.buildbin-libdir StartedAt: 2025-11-14 23:56:37 -0500 (Fri, 14 Nov 2025) EndedAt: 2025-11-14 23:56:58 -0500 (Fri, 14 Nov 2025) EllapsedTime: 21.5 seconds RetCode: 0 Status: OK PackageFile: vtpnet_0.51.0.tgz PackageFileSize: 20.24 MiB