Package: vsclust Version: 1.13.0 Command: /home/biocbuild/bbs-3.23-bioc/R/bin/R CMD INSTALL vsclust StartedAt: 2025-11-13 15:47:36 -0500 (Thu, 13 Nov 2025) EndedAt: 2025-11-13 15:48:19 -0500 (Thu, 13 Nov 2025) EllapsedTime: 42.6 seconds RetCode: 0 Status: OK