Package: vsclust Version: 1.13.0 Command: /home/biocbuild/bbs-3.23-bioc/R/bin/R CMD build --keep-empty-dirs --no-resave-data vsclust StartedAt: 2025-11-13 20:44:03 -0500 (Thu, 13 Nov 2025) EndedAt: 2025-11-13 20:46:35 -0500 (Thu, 13 Nov 2025) EllapsedTime: 152.1 seconds RetCode: 0 Status: OK PackageFile: vsclust_1.13.0.tar.gz PackageFileSize: 3.654 MiB