Package: vbmp Version: 1.79.0 Command: /Library/Frameworks/R.framework/Resources/bin/R CMD INSTALL vbmp StartedAt: 2025-11-14 15:03:06 -0500 (Fri, 14 Nov 2025) EndedAt: 2025-11-14 15:03:12 -0500 (Fri, 14 Nov 2025) EllapsedTime: 6.0 seconds RetCode: 0 Status: OK