Package: vbmp Version: 1.79.0 Command: /Library/Frameworks/R.framework/Resources/bin/R CMD build --keep-empty-dirs --no-resave-data vbmp StartedAt: 2025-11-13 18:06:04 -0500 (Thu, 13 Nov 2025) EndedAt: 2025-11-13 18:06:17 -0500 (Thu, 13 Nov 2025) EllapsedTime: 13.1 seconds RetCode: 0 Status: OK PackageFile: vbmp_1.79.0.tar.gz PackageFileSize: 1.762 MiB