Package: vbmp Version: 1.79.0 Command: rm -rf vbmp.buildbin-libdir && mkdir vbmp.buildbin-libdir && /Users/biocbuild/BBS/utils/build-universal.sh vbmp_1.79.0.tar.gz /Library/Frameworks/R.framework/Resources/bin/R vbmp.buildbin-libdir StartedAt: 2025-11-14 23:56:16 -0500 (Fri, 14 Nov 2025) EndedAt: 2025-11-14 23:56:18 -0500 (Fri, 14 Nov 2025) EllapsedTime: 2.0 seconds RetCode: 0 Status: OK PackageFile: vbmp_1.79.0.tgz PackageFileSize: 1.804 MiB