Package: vbmp Version: 1.79.0 Maintainer: Nicola Lama MaintainerEmail: nicola.lama at unina2.it git_url: https://git.bioconductor.org/packages/vbmp git_branch: devel git_last_commit: 3fa9901 git_last_commit_date: 2025-10-29 09:59:42 -0500 (Wed, 29 Oct 2025)