Package: variancePartition Version: 1.41.0 Command: /home/biocbuild/bbs-3.23-bioc/R/bin/R CMD INSTALL variancePartition StartedAt: 2025-11-11 15:15:59 -0500 (Tue, 11 Nov 2025) EndedAt: 2025-11-11 15:16:20 -0500 (Tue, 11 Nov 2025) EllapsedTime: 20.4 seconds RetCode: 0 Status: OK