Package: variancePartition Version: 1.41.0 Command: /Library/Frameworks/R.framework/Resources/bin/R CMD INSTALL variancePartition StartedAt: 2025-11-12 15:21:31 -0500 (Wed, 12 Nov 2025) EndedAt: 2025-11-12 15:21:39 -0500 (Wed, 12 Nov 2025) EllapsedTime: 7.8 seconds RetCode: 0 Status: OK