Package: variancePartition Version: 1.41.0 Command: /Library/Frameworks/R.framework/Resources/bin/R CMD build --keep-empty-dirs --no-resave-data variancePartition StartedAt: 2025-11-12 17:27:07 -0500 (Wed, 12 Nov 2025) EndedAt: 2025-11-12 17:27:56 -0500 (Wed, 12 Nov 2025) EllapsedTime: 48.7 seconds RetCode: 1 Status: ERROR PackageFile: None PackageFileSize: NA