Package: variancePartition Version: 1.41.0 Maintainer: Gabriel E. Hoffman MaintainerEmail: gabriel.hoffman at mssm.edu git_url: https://git.bioconductor.org/packages/variancePartition git_branch: devel git_last_commit: 079e2d9 git_last_commit_date: 2025-10-29 10:27:03 -0500 (Wed, 29 Oct 2025)