Package: updateObject Version: 1.15.0 Command: /home/biocbuild/bbs-3.23-bioc/R/bin/R CMD check --install=check:updateObject.install-out.txt --library=/home/biocbuild/bbs-3.23-bioc/R/site-library --timings updateObject_1.15.0.tar.gz StartedAt: 2025-11-15 05:13:07 -0500 (Sat, 15 Nov 2025) EndedAt: 2025-11-15 05:14:09 -0500 (Sat, 15 Nov 2025) EllapsedTime: 62.1 seconds RetCode: 0 Status: OK CheckDir: updateObject.Rcheck Warnings: 0