Package: updateObject Version: 1.15.0 Command: /Library/Frameworks/R.framework/Resources/bin/R CMD INSTALL updateObject StartedAt: 2025-11-13 15:07:12 -0500 (Thu, 13 Nov 2025) EndedAt: 2025-11-13 15:07:14 -0500 (Thu, 13 Nov 2025) EllapsedTime: 2.0 seconds RetCode: 0 Status: OK