Package: updateObject Version: 1.15.0 Command: /Library/Frameworks/R.framework/Resources/bin/R CMD check --install=check:updateObject.install-out.txt --library=/Library/Frameworks/R.framework/Resources/library --no-vignettes --timings updateObject_1.15.0.tar.gz StartedAt: 2025-11-13 23:11:35 -0500 (Thu, 13 Nov 2025) EndedAt: 2025-11-13 23:12:02 -0500 (Thu, 13 Nov 2025) EllapsedTime: 27.3 seconds RetCode: 0 Status: OK CheckDir: updateObject.Rcheck Warnings: 0