Package: updateObject Version: 1.15.0 Command: /Library/Frameworks/R.framework/Resources/bin/R CMD build --keep-empty-dirs --no-resave-data updateObject StartedAt: 2025-11-12 17:26:52 -0500 (Wed, 12 Nov 2025) EndedAt: 2025-11-12 17:27:03 -0500 (Wed, 12 Nov 2025) EllapsedTime: 11.1 seconds RetCode: 0 Status: OK PackageFile: updateObject_1.15.0.tar.gz PackageFileSize: 1.289 MiB