Package: unifiedWMWqPCR Version: 1.47.0 Command: /home/biocbuild/bbs-3.23-bioc/R/bin/R CMD build --keep-empty-dirs --no-resave-data unifiedWMWqPCR StartedAt: 2025-11-13 20:39:04 -0500 (Thu, 13 Nov 2025) EndedAt: 2025-11-13 20:39:14 -0500 (Thu, 13 Nov 2025) EllapsedTime: 10.0 seconds RetCode: 0 Status: OK PackageFile: unifiedWMWqPCR_1.47.0.tar.gz PackageFileSize: 501.7 KiB