Package: unifiedWMWqPCR Version: 1.47.0 Command: /Library/Frameworks/R.framework/Resources/bin/R CMD build --keep-empty-dirs --no-resave-data unifiedWMWqPCR StartedAt: 2025-11-13 18:04:48 -0500 (Thu, 13 Nov 2025) EndedAt: 2025-11-13 18:04:55 -0500 (Thu, 13 Nov 2025) EllapsedTime: 6.1 seconds RetCode: 0 Status: OK PackageFile: unifiedWMWqPCR_1.47.0.tar.gz PackageFileSize: 501.7 KiB