Package: uncoverappLib Version: 1.21.0 Command: /home/biocbuild/bbs-3.23-bioc/R/bin/R CMD INSTALL uncoverappLib StartedAt: 2025-11-13 15:59:44 -0500 (Thu, 13 Nov 2025) EndedAt: 2025-11-13 16:00:43 -0500 (Thu, 13 Nov 2025) EllapsedTime: 58.9 seconds RetCode: 0 Status: OK