Package: uncoverappLib Version: 1.21.0 Command: rm -rf uncoverappLib.buildbin-libdir && mkdir uncoverappLib.buildbin-libdir && /Users/biocbuild/BBS/utils/build-universal.sh uncoverappLib_1.21.0.tar.gz /Library/Frameworks/R.framework/Resources/bin/R uncoverappLib.buildbin-libdir StartedAt: 2025-11-14 00:00:42 -0500 (Fri, 14 Nov 2025) EndedAt: 2025-11-14 00:01:12 -0500 (Fri, 14 Nov 2025) EllapsedTime: 29.6 seconds RetCode: 0 Status: OK PackageFile: uncoverappLib_1.21.0.tgz PackageFileSize: 2.833 MiB