Package: uncoverappLib Version: 1.21.0 Maintainer: Emanuela Iovino MaintainerEmail: emanuela.iovino at unibo.it git_url: https://git.bioconductor.org/packages/uncoverappLib git_branch: devel git_last_commit: 99c7088 git_last_commit_date: 2025-10-29 11:01:16 -0500 (Wed, 29 Oct 2025)