Package: tweeDEseq Version: 1.57.0 Command: /home/biocbuild/bbs-3.23-bioc/R/bin/R CMD INSTALL tweeDEseq StartedAt: 2025-11-17 15:06:02 -0500 (Mon, 17 Nov 2025) EndedAt: 2025-11-17 15:06:14 -0500 (Mon, 17 Nov 2025) EllapsedTime: 12.7 seconds RetCode: 0 Status: OK