Package: tweeDEseq Version: 1.57.0 Command: /home/biocbuild/bbs-3.23-bioc/R/bin/R CMD build --keep-empty-dirs --no-resave-data tweeDEseq StartedAt: 2025-11-16 20:42:40 -0500 (Sun, 16 Nov 2025) EndedAt: 2025-11-16 20:52:22 -0500 (Sun, 16 Nov 2025) EllapsedTime: 582.5 seconds RetCode: 0 Status: OK PackageFile: tweeDEseq_1.57.0.tar.gz PackageFileSize: 234.1 KiB