Package: tweeDEseq Version: 1.57.0 Maintainer: Dolors Pelegri-Siso MaintainerEmail: dolors.pelegri at isglobal.org git_url: https://git.bioconductor.org/packages/tweeDEseq git_branch: devel git_last_commit: d453ad1 git_last_commit_date: 2025-10-29 10:09:35 -0500 (Wed, 29 Oct 2025)