Package: tripr Version: 1.17.0 Command: /home/biocbuild/bbs-3.23-bioc/R/bin/R CMD INSTALL tripr StartedAt: 2025-11-14 15:10:45 -0500 (Fri, 14 Nov 2025) EndedAt: 2025-11-14 15:11:26 -0500 (Fri, 14 Nov 2025) EllapsedTime: 40.8 seconds RetCode: 0 Status: OK