Package: tripr Version: 1.17.0 Command: /home/biocbuild/bbs-3.23-bioc/R/bin/R CMD build --keep-empty-dirs --no-resave-data tripr StartedAt: 2025-11-14 20:36:05 -0500 (Fri, 14 Nov 2025) EndedAt: 2025-11-14 20:36:54 -0500 (Fri, 14 Nov 2025) EllapsedTime: 49.0 seconds RetCode: 0 Status: OK PackageFile: tripr_1.17.0.tar.gz PackageFileSize: 2.939 MiB