Package: tripr Version: 1.17.0 Command: /Library/Frameworks/R.framework/Resources/bin/R CMD INSTALL tripr StartedAt: 2025-11-14 15:06:11 -0500 (Fri, 14 Nov 2025) EndedAt: 2025-11-14 15:06:28 -0500 (Fri, 14 Nov 2025) EllapsedTime: 17.4 seconds RetCode: 0 Status: OK