Package: tripr Version: 1.17.0 Command: /Library/Frameworks/R.framework/Resources/bin/R CMD build --keep-empty-dirs --no-resave-data tripr StartedAt: 2025-11-14 18:00:09 -0500 (Fri, 14 Nov 2025) EndedAt: 2025-11-14 18:00:50 -0500 (Fri, 14 Nov 2025) EllapsedTime: 40.5 seconds RetCode: 0 Status: OK PackageFile: tripr_1.17.0.tar.gz PackageFileSize: 2.939 MiB