Package: tripr Version: 1.17.0 Command: rm -rf tripr.buildbin-libdir && mkdir tripr.buildbin-libdir && /Users/biocbuild/BBS/utils/build-universal.sh tripr_1.17.0.tar.gz /Library/Frameworks/R.framework/Resources/bin/R tripr.buildbin-libdir StartedAt: 2025-11-16 23:56:56 -0500 (Sun, 16 Nov 2025) EndedAt: 2025-11-16 23:57:59 -0500 (Sun, 16 Nov 2025) EllapsedTime: 63.5 seconds RetCode: 0 Status: OK PackageFile: tripr_1.17.0.tgz PackageFileSize: 4.708 MiB