Package: triplex Version: 1.51.0 Command: /home/biocbuild/bbs-3.23-bioc/R/bin/R CMD build --keep-empty-dirs --no-resave-data triplex StartedAt: 2025-11-14 20:36:05 -0500 (Fri, 14 Nov 2025) EndedAt: 2025-11-14 20:36:35 -0500 (Fri, 14 Nov 2025) EllapsedTime: 30.0 seconds RetCode: 0 Status: OK PackageFile: triplex_1.51.0.tar.gz PackageFileSize: 600 KiB