Package: triplex Version: 1.51.0 Command: /Library/Frameworks/R.framework/Resources/bin/R CMD INSTALL triplex StartedAt: 2025-11-13 15:21:01 -0500 (Thu, 13 Nov 2025) EndedAt: 2025-11-13 15:21:08 -0500 (Thu, 13 Nov 2025) EllapsedTime: 6.4 seconds RetCode: 0 Status: OK