Package: triplex Version: 1.51.0 Command: /Library/Frameworks/R.framework/Resources/bin/R CMD build --keep-empty-dirs --no-resave-data triplex StartedAt: 2025-11-13 18:02:58 -0500 (Thu, 13 Nov 2025) EndedAt: 2025-11-13 18:03:14 -0500 (Thu, 13 Nov 2025) EllapsedTime: 16.2 seconds RetCode: 0 Status: OK PackageFile: triplex_1.51.0.tar.gz PackageFileSize: 600.1 KiB