Package: triplex Version: 1.51.0 Command: rm -rf triplex.buildbin-libdir && mkdir triplex.buildbin-libdir && /Users/biocbuild/BBS/utils/build-universal.sh triplex_1.51.0.tar.gz /Library/Frameworks/R.framework/Resources/bin/R triplex.buildbin-libdir StartedAt: 2025-11-14 00:00:26 -0500 (Fri, 14 Nov 2025) EndedAt: 2025-11-14 00:00:35 -0500 (Fri, 14 Nov 2025) EllapsedTime: 9.1 seconds RetCode: 0 Status: OK PackageFile: triplex_1.51.0.tgz PackageFileSize: 933.1 KiB