Package: triplex Version: 1.51.0 Maintainer: Jiri Hon MaintainerEmail: jiri.hon at gmail.com git_url: https://git.bioconductor.org/packages/triplex git_branch: devel git_last_commit: 53b853d git_last_commit_date: 2025-10-29 10:14:42 -0500 (Wed, 29 Oct 2025)