Package: treekoR Version: 1.19.0 Command: /home/biocbuild/bbs-3.23-bioc/R/bin/R CMD INSTALL treekoR StartedAt: 2025-11-11 15:27:18 -0500 (Tue, 11 Nov 2025) EndedAt: 2025-11-11 15:28:02 -0500 (Tue, 11 Nov 2025) EllapsedTime: 44.3 seconds RetCode: 0 Status: OK