Package: treekoR Version: 1.19.0 Command: /home/biocbuild/bbs-3.23-bioc/R/bin/R CMD check --install=check:treekoR.install-out.txt --library=/home/biocbuild/bbs-3.23-bioc/R/site-library --timings treekoR_1.19.0.tar.gz StartedAt: 2025-11-12 04:56:01 -0500 (Wed, 12 Nov 2025) EndedAt: 2025-11-12 05:01:31 -0500 (Wed, 12 Nov 2025) EllapsedTime: 329.4 seconds RetCode: 0 Status: OK CheckDir: treekoR.Rcheck Warnings: 0