Package: treekoR Version: 1.19.0 Command: /home/biocbuild/bbs-3.23-bioc/R/bin/R CMD build --keep-empty-dirs --no-resave-data treekoR StartedAt: 2025-11-11 20:40:02 -0500 (Tue, 11 Nov 2025) EndedAt: 2025-11-11 20:41:27 -0500 (Tue, 11 Nov 2025) EllapsedTime: 85.1 seconds RetCode: 0 Status: OK PackageFile: treekoR_1.19.0.tar.gz PackageFileSize: 1.707 MiB