Package: treeio Version: 1.35.0 Command: /home/biocbuild/bbs-3.23-bioc/R/bin/R CMD INSTALL treeio StartedAt: 2025-11-13 15:09:16 -0500 (Thu, 13 Nov 2025) EndedAt: 2025-11-13 15:09:22 -0500 (Thu, 13 Nov 2025) EllapsedTime: 6.7 seconds RetCode: 0 Status: OK